BEGIN:VCALENDAR
VERSION:2.0
PRODID:-//The Underlying Answers - ECPv6.15.20//NONSGML v1.0//EN
CALSCALE:GREGORIAN
METHOD:PUBLISH
X-WR-CALNAME:The Underlying Answers
X-ORIGINAL-URL:https://theunderlyinganswers.com
X-WR-CALDESC:Events for The Underlying Answers
REFRESH-INTERVAL;VALUE=DURATION:PT1H
X-Robots-Tag:noindex
X-PUBLISHED-TTL:PT1H
BEGIN:VTIMEZONE
TZID:America/Los_Angeles
BEGIN:DAYLIGHT
TZOFFSETFROM:-0800
TZOFFSETTO:-0700
TZNAME:PDT
DTSTART:20220313T100000
END:DAYLIGHT
BEGIN:STANDARD
TZOFFSETFROM:-0700
TZOFFSETTO:-0800
TZNAME:PST
DTSTART:20221106T090000
END:STANDARD
BEGIN:DAYLIGHT
TZOFFSETFROM:-0800
TZOFFSETTO:-0700
TZNAME:PDT
DTSTART:20230312T100000
END:DAYLIGHT
BEGIN:STANDARD
TZOFFSETFROM:-0700
TZOFFSETTO:-0800
TZNAME:PST
DTSTART:20231105T090000
END:STANDARD
BEGIN:DAYLIGHT
TZOFFSETFROM:-0800
TZOFFSETTO:-0700
TZNAME:PDT
DTSTART:20240310T100000
END:DAYLIGHT
BEGIN:STANDARD
TZOFFSETFROM:-0700
TZOFFSETTO:-0800
TZNAME:PST
DTSTART:20241103T090000
END:STANDARD
END:VTIMEZONE
BEGIN:VEVENT
DTSTART;TZID=America/Los_Angeles:20231003T170000
DTEND;TZID=America/Los_Angeles:20231003T180000
DTSTAMP:20260424T021657
CREATED:20231003T232717Z
LAST-MODIFIED:20231003T232742Z
UID:230704-1696352400-1696356000@theunderlyinganswers.com
SUMMARY:Q&A: EBDT Personalized Remedy Program
DESCRIPTION:If you are a member of our Personalized Remedy Program\, you can join The Underlying Answers team on the first\, second\, and fourth Thursdays of each month. The team will answer your questions\, share best practices\, and provide educational tools when time permits. \nYou do not need to RSVP for this event. Just click on the zoom link and join the webinar!
URL:https://theunderlyinganswers.com/event/qa-ebdt-personalized-remedy-program-5-5/
LOCATION:Zoom-Meet-up
CATEGORIES:Q&A
ATTACH;FMTTYPE=image/png:https://theunderlyinganswers.com/wp-content/uploads/2023/03/Untitled-2.png
ORGANIZER;CN="Cindy Costley":MAILTO:clientcare@theunderlyinganswers.com
END:VEVENT
BEGIN:VEVENT
DTSTART;TZID=America/Los_Angeles:20231006T100000
DTEND;TZID=America/Los_Angeles:20231006T110000
DTSTAMP:20260424T021657
CREATED:20231003T233022Z
LAST-MODIFIED:20231003T233046Z
UID:230706-1696586400-1696590000@theunderlyinganswers.com
SUMMARY:Q&A: EBDT Personalized Remedy Program
DESCRIPTION:If you are a member of our Personalized Remedy Program\, you can join The Underlying Answers team on the first\, second\, and fourth Thursdays of each month. The team will answer your questions\, share best practices\, and provide educational tools when time permits. \nYou do not need to RSVP for this event. Just click on the zoom link and join the webinar!
URL:https://theunderlyinganswers.com/event/qa-ebdt-personalized-remedy-program-2-4-4/
LOCATION:Zoom-Meet-up
CATEGORIES:Q&A
ATTACH;FMTTYPE=image/png:https://theunderlyinganswers.com/wp-content/uploads/2023/03/Untitled-2.png
ORGANIZER;CN="Cindy Costley":MAILTO:clientcare@theunderlyinganswers.com
END:VEVENT
BEGIN:VEVENT
DTSTART;TZID=America/Los_Angeles:20231010T170000
DTEND;TZID=America/Los_Angeles:20231010T180000
DTSTAMP:20260424T021657
CREATED:20230815T000658Z
LAST-MODIFIED:20230815T000658Z
UID:230651-1696957200-1696960800@theunderlyinganswers.com
SUMMARY:Q&A: EBDT Personalized Remedy Program
DESCRIPTION:If you are a member of our Personalized Remedy Program\, you can join The Underlying Answers team on the first\, second\, and fourth Thursdays of each month. The team will answer your questions\, share best practices\, and provide educational tools when time permits. \nYou do not need to RSVP for this event. Just click on the zoom link and join the webinar!
URL:https://theunderlyinganswers.com/event/qa-ebdt-personalized-remedy-program-5/
LOCATION:Zoom-Meet-up
CATEGORIES:Q&A
ATTACH;FMTTYPE=image/png:https://theunderlyinganswers.com/wp-content/uploads/2023/03/Untitled-2.png
ORGANIZER;CN="Cindy Costley":MAILTO:clientcare@theunderlyinganswers.com
END:VEVENT
BEGIN:VEVENT
DTSTART;TZID=America/Los_Angeles:20231013T100000
DTEND;TZID=America/Los_Angeles:20231013T110000
DTSTAMP:20260424T021657
CREATED:20230829T234244Z
LAST-MODIFIED:20230926T192359Z
UID:230677-1697191200-1697194800@theunderlyinganswers.com
SUMMARY:Q&A: EBDT Personalized Remedy Program
DESCRIPTION:If you are a member of our Personalized Remedy Program\, you can join The Underlying Answers team on the first\, second\, and fourth Thursdays of each month. The team will answer your questions\, share best practices\, and provide educational tools when time permits. \nYou do not need to RSVP for this event. Just click on the zoom link and join the webinar!
URL:https://theunderlyinganswers.com/event/qa-ebdt-personalized-remedy-program-2-4/
LOCATION:Zoom-Meet-up
CATEGORIES:Q&A
ATTACH;FMTTYPE=image/png:https://theunderlyinganswers.com/wp-content/uploads/2023/03/Untitled-2.png
ORGANIZER;CN="Cindy Costley":MAILTO:clientcare@theunderlyinganswers.com
END:VEVENT
BEGIN:VEVENT
DTSTART;TZID=America/Los_Angeles:20231017T170000
DTEND;TZID=America/Los_Angeles:20231017T180000
DTSTAMP:20260424T021657
CREATED:20230921T170247Z
LAST-MODIFIED:20231016T234434Z
UID:230695-1697562000-1697565600@theunderlyinganswers.com
SUMMARY:The Underlying Answers Educational Webinar
DESCRIPTION:Join us for today’s educational webinar and gain insight into how to manage\, control\, and heal all that is no longer serving you in your life.\nEach session will begin and end with a short meditation\, and then move into a lesson around healing and wholeness. \nWe have a guest speaker today\, Ashley Marshall. Ashley is a life coach that will talk about finding joy in your healing process. We look forward to having you on the call.
URL:https://theunderlyinganswers.com/event/the-underlying-answers-educational-webinar-3-2/
LOCATION:Zoom-Meet-up
CATEGORIES:Monthly Educational Webinar
ATTACH;FMTTYPE=image/png:https://theunderlyinganswers.com/wp-content/uploads/2023/02/educational-webinar-1.png
ORGANIZER;CN="Cindy Costley":MAILTO:clientcare@theunderlyinganswers.com
END:VEVENT
BEGIN:VEVENT
DTSTART;TZID=America/Los_Angeles:20231020T100000
DTEND;TZID=America/Los_Angeles:20231020T110000
DTSTAMP:20260424T021657
CREATED:20231016T234538Z
LAST-MODIFIED:20231016T234636Z
UID:230712-1697796000-1697799600@theunderlyinganswers.com
SUMMARY:The Underlying Answers Educational Webinar
DESCRIPTION:Join us for today’s educational webinar and gain insight into how to manage\, control\, and heal all that is no longer serving you in your life.\nEach session will begin and end with a short meditation\, and then move into a lesson around healing and wholeness.
URL:https://theunderlyinganswers.com/event/the-underlying-answers-educational-webinar-6-2/
LOCATION:Zoom-Meet-up
CATEGORIES:Monthly Educational Webinar
ATTACH;FMTTYPE=image/png:https://theunderlyinganswers.com/wp-content/uploads/2023/02/educational-webinar-1.png
ORGANIZER;CN="Cindy Costley":MAILTO:clientcare@theunderlyinganswers.com
END:VEVENT
BEGIN:VEVENT
DTSTART;TZID=America/Los_Angeles:20231024T170000
DTEND;TZID=America/Los_Angeles:20231024T180000
DTSTAMP:20260424T021657
CREATED:20231023T044119Z
LAST-MODIFIED:20231023T044149Z
UID:230734-1698166800-1698170400@theunderlyinganswers.com
SUMMARY:Q&A: EBDT Personalized Remedy Program
DESCRIPTION:If you are a member of our Personalized Remedy Program\, you can join The Underlying Answers team on the first\, second\, and fourth Thursdays of each month. The team will answer your questions\, share best practices\, and provide educational tools when time permits. \nYou do not need to RSVP for this event. Just click on the zoom link and join the webinar!
URL:https://theunderlyinganswers.com/event/qa-ebdt-personalized-remedy-program-5-6/
LOCATION:Zoom-Meet-up
CATEGORIES:Q&A
ATTACH;FMTTYPE=image/png:https://theunderlyinganswers.com/wp-content/uploads/2023/03/Untitled-2.png
ORGANIZER;CN="Cindy Costley":MAILTO:clientcare@theunderlyinganswers.com
END:VEVENT
BEGIN:VEVENT
DTSTART;TZID=America/Los_Angeles:20231027T100000
DTEND;TZID=America/Los_Angeles:20231027T110000
DTSTAMP:20260424T021657
CREATED:20231023T043945Z
LAST-MODIFIED:20231023T044012Z
UID:230733-1698400800-1698404400@theunderlyinganswers.com
SUMMARY:Q&A: EBDT Personalized Remedy Program
DESCRIPTION:If you are a member of our Personalized Remedy Program\, you can join The Underlying Answers team on the first\, second\, and fourth Thursdays of each month. The team will answer your questions\, share best practices\, and provide educational tools when time permits. \nYou do not need to RSVP for this event. Just click on the zoom link and join the webinar!
URL:https://theunderlyinganswers.com/event/qa-ebdt-personalized-remedy-program-2-4-5/
LOCATION:Zoom-Meet-up
CATEGORIES:Q&A
ATTACH;FMTTYPE=image/png:https://theunderlyinganswers.com/wp-content/uploads/2023/03/Untitled-2.png
ORGANIZER;CN="Cindy Costley":MAILTO:clientcare@theunderlyinganswers.com
END:VEVENT
BEGIN:VEVENT
DTSTART;TZID=America/Los_Angeles:20231031T170000
DTEND;TZID=America/Los_Angeles:20231031T180000
DTSTAMP:20260424T021657
CREATED:20231031T225237Z
LAST-MODIFIED:20231031T225259Z
UID:230741-1698771600-1698775200@theunderlyinganswers.com
SUMMARY:Q&A: EBDT Personalized Remedy Program
DESCRIPTION:If you are a member of our Personalized Remedy Program\, you can join The Underlying Answers team on the first\, second\, and fourth Thursdays of each month. The team will answer your questions\, share best practices\, and provide educational tools when time permits. \nYou do not need to RSVP for this event. Just click on the zoom link and join the webinar!
URL:https://theunderlyinganswers.com/event/qa-ebdt-personalized-remedy-program-9/
LOCATION:Zoom-Meet-up
CATEGORIES:Q&A
ATTACH;FMTTYPE=image/png:https://theunderlyinganswers.com/wp-content/uploads/2023/03/Untitled-2.png
ORGANIZER;CN="Cindy Costley":MAILTO:clientcare@theunderlyinganswers.com
END:VEVENT
END:VCALENDAR